BEGIN:VCALENDAR
VERSION:2.0
PRODID:-//InvisionCommunity Events 4.7.23//EN
METHOD:PUBLISH
CALSCALE:GREGORIAN
REFRESH-INTERVAL:PT15M
X-PUBLISHED-TTL:PT15M
X-WR-CALNAME:Events
NAME:Events
BEGIN:VTIMEZONE
TZID:Europe/London
TZURL:http://tzurl.org/zoneinfo/Europe/London
X-LIC-LOCATION:Europe/London
BEGIN:DAYLIGHT
TZOFFSETFROM:+0000
TZOFFSETTO:+0100
TZNAME:BST
DTSTART:20180325T020000Z
RRULE:FREQ=YEARLY;BYMONTH=3;BYDAY=-1SU
END:DAYLIGHT
BEGIN:STANDARD
TZOFFSETFROM:+0100
TZOFFSETTO:+0000
TZNAME:GMT
DTSTART:20181028T020000Z
RRULE:FREQ=YEARLY;BYMONTH=10;BYDAY=-1SU
END:STANDARD
END:VTIMEZONE
BEGIN:VEVENT
SUMMARY:Darmowe 1000 StatTrak na dowolnym serwerze GO MOD.
DTSTAMP:20180321T224352Z
SEQUENCE:0
UID:11-6-a06352e673815c4e9d5ad42b143dfd71@pochylnia.pl
ORGANIZER;CN="VisTeR.'":support@pochylnia.pl
DESCRIPTION:\n\n	Napisz komentarz i weź udział w losowaniu. \n\n\n\n	
	Czas start. \n\n
DTSTART:20180331T180000Z
DTEND:20180331T200000Z
END:VEVENT
BEGIN:VEVENT
SUMMARY:Darmowe 3 skrzynie AK i AWP na CS GO MOD.
DTSTAMP:20180217T091239Z
SEQUENCE:0
UID:10-6-a06352e673815c4e9d5ad42b143dfd71@pochylnia.pl
ORGANIZER;CN="VisTeR.'":support@pochylnia.pl
DESCRIPTION:\n\n	Wygraj case AK i AWP  za bycie w klubie  \n\n\n\n	Lo
	sowanie wśród członków klubu.   \n\n\n\n	Napisz komentarz by wzią
	ć udział    \n\n
DTSTART:20180219T200000Z
DTEND:20180219T210000Z
END:VEVENT
BEGIN:VEVENT
SUMMARY:Darmowe 5 kluczy na CS GO MOD.
DTSTAMP:20180211T155218Z
SEQUENCE:0
UID:8-6-a06352e673815c4e9d5ad42b143dfd71@pochylnia.pl
ORGANIZER;CN="VisTeR.'":support@pochylnia.pl
DESCRIPTION:\n	Napisz komentarz i weź udział w losowaniu \;)   \n
DTSTART:20180216T120000Z
DTEND:20180216T130000Z
END:VEVENT
END:VCALENDAR
